BEGIN:VCALENDAR
VERSION:2.0
PRODID:-//85.13.156.65//NONSGML kigkonsult.se iCalcreator 2.41.92//
CALSCALE:GREGORIAN
METHOD:PUBLISH
UID:38356238-3032-4964-b738-666334636531
X-WR-CALNAME:Vereinsveranstaltung
X-WR-CALDESC:Gugelhupf Tanzen in Dresden
X-WR-TIMEZONE:Europe/Berlin
BEGIN:VEVENT
UID:62616566-6163-4934-b839-393762366663
DTSTAMP:20260421T130702Z
DTSTART:20260421T200000
DTEND:20260421T210000
LOCATION:Gemeindesaal in St. Marien\, Gottfried-Keller-Straße 50\, 01157 Dr
 esden-Cotta
SUMMARY:Parasol
END:VEVENT
END:VCALENDAR
